BEGIN:VCALENDAR
VERSION:2.0
PRODID:-//Paragon International University - ECPv5.16.4.1//NONSGML v1.0//EN
CALSCALE:GREGORIAN
METHOD:PUBLISH
X-WR-CALNAME:Paragon International University
X-ORIGINAL-URL:https://www.paragoniu.edu.kh
X-WR-CALDESC:Events for Paragon International University
REFRESH-INTERVAL;VALUE=DURATION:PT1H
X-Robots-Tag:noindex
X-PUBLISHED-TTL:PT1H
BEGIN:VTIMEZONE
TZID:Asia/Phnom_Penh
BEGIN:STANDARD
TZOFFSETFROM:+0700
TZOFFSETTO:+0700
TZNAME:+07
DTSTART:20250101T000000
END:STANDARD
END:VTIMEZONE
BEGIN:VEVENT
DTSTART;TZID=Asia/Phnom_Penh:20250524T140000
DTEND;TZID=Asia/Phnom_Penh:20250524T160000
DTSTAMP:20260420T220812
CREATED:20250530T161915Z
LAST-MODIFIED:20251201T051112Z
UID:151919-1748095200-1748102400@www.paragoniu.edu.kh
SUMMARY:⚜️ PIUMUN 2024–2025: Fifth Training Session ⚜️
DESCRIPTION:The PIUMUN Executive Council is conducting the fifth training session of the academic year\, under the topic of “How to Write a Position Paper”\, focusing on one of the most essential skills in Model United Nations: crafting an effective position paper. \nMs. Ousa Rin will be a trainer for this session. Participants will receive practical guidance on the purpose\, structure\, and strategic elements of a well-written position paper\, which is a key component of MUN preparation. The training will also help deepen delegates’ understanding of MUN procedures and enhance their readiness for upcoming simulations. \nDate: Saturday\, 24th May 2025\nTime: 2:00 PM to 4:00 PM\nVenue: Lecture Hall 404\, 4th Floor\, Paragon International University \nWe highly encourage all delegates to attend and take full advantage of this opportunity to strengthen their research and writing skills. \n#PIUMUN2025 #PIUMUNExecutiveCouncil2025 #PIUMUN2025TrainingSession
URL:https://www.paragoniu.edu.kh/the-event/%e2%9a%9c%ef%b8%8f-piumun-2024-2025-fifth-training-session-%e2%9a%9c%ef%b8%8f/
LOCATION:Paragon International University\, No. 8\, St. 315\, Boeng Kak 1\, Tuol Kork\, Phnom Penh\, 12151\, Cambodia
CATEGORIES:ParagonIU,Training Session
ATTACH;FMTTYPE=image/jpeg:https://www.paragoniu.edu.kh/wp-content/uploads/2025/05/photo_2025-05-24_11-10-09.jpg
ORGANIZER;CN="Paragon%20International%20University%20Model%20United%20Nations%20Club":MAILTO:piumun@paragoniu.edu.kh
END:VEVENT
END:VCALENDAR