BEGIN:VCALENDAR
VERSION:2.0
PRODID:-//Paragon International University - ECPv5.16.4.1//NONSGML v1.0//EN
CALSCALE:GREGORIAN
METHOD:PUBLISH
X-WR-CALNAME:Paragon International University
X-ORIGINAL-URL:https://www.paragoniu.edu.kh
X-WR-CALDESC:Events for Paragon International University
REFRESH-INTERVAL;VALUE=DURATION:PT1H
X-Robots-Tag:noindex
X-PUBLISHED-TTL:PT1H
BEGIN:VTIMEZONE
TZID:Asia/Phnom_Penh
BEGIN:STANDARD
TZOFFSETFROM:+0700
TZOFFSETTO:+0700
TZNAME:+07
DTSTART:20250101T000000
END:STANDARD
END:VTIMEZONE
BEGIN:VEVENT
DTSTART;TZID=Asia/Phnom_Penh:20250710T180000
DTEND;TZID=Asia/Phnom_Penh:20250710T200000
DTSTAMP:20260421T090027
CREATED:20250710T071502Z
LAST-MODIFIED:20251130T161148Z
UID:153778-1752170400-1752177600@www.paragoniu.edu.kh
SUMMARY:⚽️The PIUFC Super Cup⚽️
DESCRIPTION:The PIUFC Super Cup returns once again as this year’s champions\, Ganzberg Empire\, will take on ParagonIU Staff. \n\n\n\nWho will come out victorious? Join us this Thursday!!\n\n\n\n#PIUFC2025 #PIUFCSUPERCUP \nVenue: King Sport
URL:https://www.paragoniu.edu.kh/the-event/%e2%9a%bd%ef%b8%8fthe-piufc-super-cup%e2%9a%bd%ef%b8%8f/
CATEGORIES:Football Match,Paragon.U Club Activities,ParagonIU
ATTACH;FMTTYPE=image/png:https://www.paragoniu.edu.kh/wp-content/uploads/2025/07/Super-Cup.png
END:VEVENT
BEGIN:VEVENT
DTSTART;TZID=Asia/Phnom_Penh:20250719T140000
DTEND;TZID=Asia/Phnom_Penh:20250719T163000
DTSTAMP:20260421T090027
CREATED:20250718T083800Z
LAST-MODIFIED:20251130T161610Z
UID:154120-1752933600-1752942600@www.paragoniu.edu.kh
SUMMARY:Rodwell College Fair 2025!🚀
DESCRIPTION:Join us this Saturday for the Rodwell College Fair 2025! \n\n\n\nOur team will be there to answer all your questions about our upcoming scholarship opportunities and diverse academic programs! We look forward to seeing you there! \n\n\n#ParagonU #collegefair #Rodwell
URL:https://www.paragoniu.edu.kh/the-event/rodwell-college-fair-2025%f0%9f%9a%80/
LOCATION:Rodwell Learning Center\, 57 Street 318\, Phnom Penh\, Cambodia\, Cambodia
CATEGORIES:College Fair,ParagonIU
ATTACH;FMTTYPE=image/png:https://www.paragoniu.edu.kh/wp-content/uploads/2025/07/Rodwell-College-Fair-1.png
ORGANIZER;CN="Rodwell%20Learning%20Center":MAILTO:info@rodwell.center
END:VEVENT
BEGIN:VEVENT
DTSTART;TZID=Asia/Phnom_Penh:20250726T130000
DTEND;TZID=Asia/Phnom_Penh:20250726T180000
DTSTAMP:20260421T090027
CREATED:20250714T024744Z
LAST-MODIFIED:20251130T161131Z
UID:153981-1753534800-1753552800@www.paragoniu.edu.kh
SUMMARY:Banking and Finance Forum 2.0
DESCRIPTION:[???????????????????????????????? ???????????????????????????? ???????????? ???????????????????????????? ????????????????] \n???????????? ???????????????????? ????.???? ???????? ????????????????! Organized by our students from the Banking and Finance club\, this year’s event features expert panel discussions and sharing sessions that bring real-world insights straight to you. \n???? Date: ???????????????? ???????????????? ????????????????\n???? Time: ????:???????? ???????? – ????:???????? ????????\n???? Location: ???????????????????????????? ???????????????????????????????????????????????????? ???????????????????????????????????????? (https://maps.app.goo.gl/nRp53WWhaiKxSGX68) \nWhether you’re a student\, a future banker\, or just finance-curious\, this event is for you! \n???? Tickets are now available on ????????????????????????+: https://bookme.plus/t/events/banking-and-finance-forum \n 
URL:https://www.paragoniu.edu.kh/the-event/banking-and-finance-forum-2-0/
LOCATION:Paragon International University\, No. 8\, St. 315\, Boeng Kak 1\, Tuol Kork\, Phnom Penh\, 12151\, Cambodia
CATEGORIES:Paragon.U Club Activities,ParagonIU,Workshop
ATTACH;FMTTYPE=image/png:https://www.paragoniu.edu.kh/wp-content/uploads/2025/07/bestsellerslist-1.png
ORGANIZER;CN="ParagonU%20Banking%20and%20Finance%20Club":MAILTO:bafclub@paragoniu.edu.kh
END:VEVENT
BEGIN:VEVENT
DTSTART;TZID=Asia/Phnom_Penh:20250804T180000
DTEND;TZID=Asia/Phnom_Penh:20250804T200000
DTSTAMP:20260421T090027
CREATED:20250802T031809Z
LAST-MODIFIED:20251130T161121Z
UID:154583-1754330400-1754337600@www.paragoniu.edu.kh
SUMMARY:Football Friendly Match
DESCRIPTION:On 4th August 2025\, there will be a friendly match between the Cambodia Investment Construction and Architecture Association and Paragon Team Sports.
URL:https://www.paragoniu.edu.kh/the-event/football-friendly-match/
LOCATION:King Sports
CATEGORIES:Football Match,Paragon.U Club Activities,ParagonIU
ATTACH;FMTTYPE=image/jpeg:https://www.paragoniu.edu.kh/wp-content/uploads/2025/08/photo_2025-07-31_14-08-40.jpg
END:VEVENT
BEGIN:VEVENT
DTSTART;TZID=Asia/Phnom_Penh:20250807T190000
DTEND;TZID=Asia/Phnom_Penh:20250807T200000
DTSTAMP:20260421T090027
CREATED:20250805T064956Z
LAST-MODIFIED:20251130T161116Z
UID:154657-1754593200-1754596800@www.paragoniu.edu.kh
SUMMARY:Bacll Tips Webinar: How to prepare yourself for Bacll exam?
DESCRIPTION:[𝘗𝘢𝘳𝘢𝘨𝘰𝘯𝘜 𝘚𝘵𝘶𝘥𝘦𝘯𝘵 𝘈𝘮𝘣𝘢𝘴𝘴𝘢𝘥𝘰𝘳 & 𝘗𝘢𝘳𝘢𝘨𝘰𝘯𝘜 𝘒𝘯𝘰𝘸𝘭𝘦𝘥𝘨𝘦 𝘛𝘪𝘱𝘴] \n𝐁𝐚𝐜 𝐈𝐈 𝐞𝐱𝐚𝐦 𝐚𝐩𝐩𝐫𝐨𝐚𝐜𝐡𝐢𝐧𝐠? \n🚀Join our Grade A students\, Mr. Sokly Techsreng and Ms. Vouch E Ly\, as they share the study habits and tips that earned them A’s! \n📅𝐃𝐚𝐭𝐞: 𝟕 𝐀𝐮𝐠𝐮𝐬𝐭 𝟐𝟎𝟐𝟓\, 𝟕:𝟎𝟎 𝐏𝐌 𝐭𝐨 𝟖:𝟎𝟎 𝐏𝐌\, 𝐯𝐢𝐚 𝐆𝐨𝐨𝐠𝐥𝐞 𝐌𝐞𝐞𝐭 \n𝐑𝐞𝐠𝐢𝐬𝐭𝐞𝐫 𝐡𝐞𝐫𝐞: https://forms.gle/dfQv8HGstcNBEHtC6
URL:https://www.paragoniu.edu.kh/the-event/bacll-tips-webinar-how-to-prepare-yourself-for-bacll-exam/
CATEGORIES:ParagonIU,Sharing Session,Webinar
ATTACH;FMTTYPE=image/png:https://www.paragoniu.edu.kh/wp-content/uploads/2025/08/SA-2025_National-Exam-Sharing-Session-3.png
END:VEVENT
BEGIN:VEVENT
DTSTART;TZID=Asia/Phnom_Penh:20250905T093000
DTEND;TZID=Asia/Phnom_Penh:20250905T170000
DTSTAMP:20260421T090027
CREATED:20250815T064528Z
LAST-MODIFIED:20251130T161109Z
UID:156202-1757064600-1757091600@www.paragoniu.edu.kh
SUMMARY:ISHE 2025 International Conference!
DESCRIPTION:This time\, we bring together leading experts from Cambodia\, Indonesia\, and beyond — scholars and practitioners at the forefront of AI\, education\, economics\, and computer science as our guest speakers.\n\n\n\nFrom advancing applied AI and digital education to shaping national policies and inspiring future innovators\, these experts represent the diverse and dynamic spirit of the ISHE conference.\n\n\n\n\n Join us on 5 September 2025\, at Paragon International University\, as we explore the theme: “Empowering Higher Education through Intelligent Systems and Digital Ecosystems.” \n\n\n Check the agenda poster below and plan your sessions. \n\n\n\n Register now: https://forms.gle/c3G6s5H8PtGgYxhQ8
URL:https://www.paragoniu.edu.kh/the-event/%f0%9d%90%88%f0%9d%90%92%f0%9d%90%87%f0%9d%90%84-%f0%9d%9f%90%f0%9d%9f%8e%f0%9d%9f%90%f0%9d%9f%93-%f0%9d%90%88%f0%9d%90%a7%f0%9d%90%ad%f0%9d%90%9e%f0%9d%90%ab%f0%9d%90%a7%f0%9d%90%9a%f0%9d%90%ad/
LOCATION:Paragon International University\, No. 8\, St. 315\, Boeng Kak 1\, Tuol Kork\, Phnom Penh\, 12151\, Cambodia
CATEGORIES:Conference,ISHE,ParagonIU
ATTACH;FMTTYPE=image/png:https://www.paragoniu.edu.kh/wp-content/uploads/2025/08/Copy-of-ISHE-2025-1516-x-1080-px-1.png
END:VEVENT
BEGIN:VEVENT
DTSTART;TZID=Asia/Phnom_Penh:20251001T100000
DTEND;TZID=Asia/Phnom_Penh:20251002T170000
DTSTAMP:20260421T090027
CREATED:20250929T021747Z
LAST-MODIFIED:20251130T161103Z
UID:157728-1759312800-1759424400@www.paragoniu.edu.kh
SUMMARY:Grade-Based Scholarship 2025
DESCRIPTION:កម្មវិធីផ្ដល់អាហារូបករណ៍ \nការផ្ដល់អាហារូបករណ៍នឹងធ្វើឡើងតាមរយៈការចាប់ឆ្នោត ហើយសិស្សានុសិស្សត្រូវតែមកចុះឈ្មោះដោយផ្ទាល់នៅថ្ងៃប្រព្រឹត្តកម្មវិធី។ កាលវិភាគសម្រាប់ចូលរួមគឺផ្អែកលើនិទ្ទេសដែលទទួលបាន៖ \n\nនិទ្ទេស A: ថ្ងៃទី១ ខែតុលា ឆ្នាំ២០២៥ វេលាម៉ោង ១០:០០ ព្រឹក\nនិទ្ទេស B: ថ្ងៃទី១ ខែតុលា ឆ្នាំ២០២៥ វេលាម៉ោង ២:០០ រសៀល\nនិទ្ទេស C: ថ្ងៃទី២ ខែតុលា ឆ្នាំ២០២៥ វេលាម៉ោង ១០:០០ ព្រឹក\nនិទ្ទេស D: ថ្ងៃទី២ ខែតុលា ឆ្នាំ២០២៥ វេលាម៉ោង ២:០០ រសៀល\n\nកម្មវិធីនឹងប្រព្រឹត្តទៅនៅបរិវេណសាកលវិទ្យាល័យអន្តរជាតិ ផារ៉ាហ្គន។ \n????ចំណាំ៖\n– កម្មវិធីនឹងធ្វើឡើងតាមរយៈការចាប់ឆ្នោត\n– បេក្ខជននឹងត្រូវសម្រេចចិត្តជ្រើសរើសយកអាហារូបករណ៍ភ្លាមៗនៅហ្នឹងកន្លែង\n– សូមភ្ជាប់មកជាមួយនូវកាតសិស្ស ឬអត្តសញ្ញាណប័ណ្ណ ភស្តុតាងបញ្ជាក់ពីនិទ្ទេស និងទឹកប្រាក់ចំនួន $៥១០ សម្រាប់ថ្លៃចុះឈ្មោះសិក្សា ។ \n*** លក្ខខណ្ឌផ្សេងៗ និងព័ត៌មានលម្អិតអំពីដំណើរការទទួលអាហារូបករណ៍នេះ នឹងត្រូវប្រកាសជូនតាមកាលវិភាគខាងលើ ។ \nសម្រាប់ព័ត៌មានបន្ថែមអំពីលក្ខខណ្ឌអាហារូបករណ៍ និងដំណើរការដាក់ពាក្យ សិស្សានុសិស្សអាចចូលទៅកាន់គេហទំព័រផ្លូវការរបស់សាកលវិទ្យាល័យតាមរយៈ៖ https://www.paragoniu.edu.kh/admissions/current-scholarships/grade-based-
URL:https://www.paragoniu.edu.kh/the-event/grade-based-scholarship-2025/
LOCATION:Paragon International University\, No. 8\, St. 315\, Boeng Kak 1\, Tuol Kork\, Phnom Penh\, 12151\, Cambodia
CATEGORIES:ParagonIU,Scholarship
ATTACH;FMTTYPE=image/png:https://www.paragoniu.edu.kh/wp-content/uploads/2025/09/Website.png
ORGANIZER;CN="Paragon%20International%20University":MAILTO:info@paragoniu.edu.kh
END:VEVENT
BEGIN:VEVENT
DTSTART;TZID=Asia/Phnom_Penh:20251016T100000
DTEND;TZID=Asia/Phnom_Penh:20251017T160000
DTSTAMP:20260421T090027
CREATED:20250930T020204Z
LAST-MODIFIED:20251130T161055Z
UID:157778-1760608800-1760716800@www.paragoniu.edu.kh
SUMMARY:Paragon.U Information Session for Undergraduate Programs
DESCRIPTION:Paragon International University is pleased to invite all students and parents to attend our undergraduate program information session. Join us to learn about our academic majors and future career opportunities\, and meet directly with our deans\, department heads\, and professors. \n⏰The information session will be held over two days:\n– 16 October 2025: 10:00 AM to 4:00 PM\n– 17 October 2025: 10:00 AM to 4:00 PM \n📍Location: Paragon International University \nPlease register using this link: https://forms.gle/yKLidiMcUwZj7Tei9 \nFor further information\, please contact:\n📞 Phone: 017 996 111 / 015 996 111\n✉️ Telegram: https://t.me/Paragon_International_University\n📧 Email: info@paragoniu.edu.kh\n🌐Website: www.www.paragoniu.edu.kh \n#ParagonU #UndergraduateProgram #academicyear20252026
URL:https://www.paragoniu.edu.kh/the-event/undergraduate-program-information-session/
LOCATION:Paragon International University\, No. 8\, St. 315\, Boeng Kak 1\, Tuol Kork\, Phnom Penh\, 12151\, Cambodia
CATEGORIES:Info Session,ParagonIU
ATTACH;FMTTYPE=image/png:https://www.paragoniu.edu.kh/wp-content/uploads/2025/09/1x1-Poster@4x.png
ORGANIZER;CN="Paragon%20International%20University":MAILTO:info@paragoniu.edu.kh
END:VEVENT
BEGIN:VEVENT
DTSTART;TZID=Asia/Phnom_Penh:20251016T100000
DTEND;TZID=Asia/Phnom_Penh:20251117T160000
DTSTAMP:20260421T090027
CREATED:20251008T055118Z
LAST-MODIFIED:20251130T161050Z
UID:158084-1760608800-1763395200@www.paragoniu.edu.kh
SUMMARY:Important Dates
DESCRIPTION: 𝐁𝐨𝐨𝐤 𝐘𝐨𝐮𝐫 𝐂𝐚𝐥𝐞𝐧𝐝𝐚𝐫! 𝐔𝐩𝐜𝐨𝐦𝐢𝐧𝐠 𝐄𝐯𝐞𝐧𝐭𝐬 𝐚𝐭 𝐏𝐚𝐫𝐚𝐠𝐨𝐧 𝐈𝐧𝐭𝐞𝐫𝐧𝐚𝐭𝐢𝐨𝐧𝐚𝐥 𝐔𝐧𝐢𝐯𝐞𝐫𝐬𝐢𝐭𝐲!Join us for the comprehensive information sessions about our undergraduate programs. This is a great opportunity to meet directly with our deans\, department heads\, and professors\, learn about our fields of study\, career prospects\, and the application process.​​ Date: 16-17 October 2025Registration Link: https://forms.gle/yKLidiMcUwZj7Tei9New students who are preparing to enroll for the upcoming academic year at Paragon International University\, please get ready to join us!Orientation Days: 12-14 November 2025New Academic Year Starts: 17 November 2025
URL:https://www.paragoniu.edu.kh/the-event/important-dates/
LOCATION:Paragon International University\, No. 8\, St. 315\, Boeng Kak 1\, Tuol Kork\, Phnom Penh\, 12151\, Cambodia
CATEGORIES:Info Session,Orientation Days,ParagonIU,Sharing Session
ATTACH;FMTTYPE=image/png:https://www.paragoniu.edu.kh/wp-content/uploads/2025/10/Artboard-1-copy@5x.png
ORGANIZER;CN="Paragon%20International%20University":MAILTO:info@paragoniu.edu.kh
END:VEVENT
BEGIN:VEVENT
DTSTART;TZID=Asia/Phnom_Penh:20251020T080000
DTEND;TZID=Asia/Phnom_Penh:20251026T170000
DTSTAMP:20260421T090027
CREATED:20251017T061012Z
LAST-MODIFIED:20251130T161050Z
UID:158757-1760947200-1761498000@www.paragoniu.edu.kh
SUMMARY:CS-Cup 2025: Junior
DESCRIPTION:The Department of Computer Science at Paragon International University is thrilled to launch the premier programming challenge for young minds!⁣ \n🗓 𝐓𝐇𝐄 𝐂𝐇𝐀𝐋𝐋𝐄𝐍𝐆𝐄 𝐃𝐄𝐓𝐀𝐈𝐋𝐒⁣\n⁣\nDates: 20-26 October 2025⁣\n⁣\nFocus: Programming & Algorithmic Challenges⁣\n⁣\nFormat: Online and On Campus at Paragon International University.⁣\n⁣\n⁣👉 REGISTER NOW!⁣\nScan the QR code or click the link below to sign up:⁣\n🔗 https://docs.google.com/forms/d/e/1FAIpQLSeoDySdlA4E1whajxEc9aykd7yz_A5mM-W_Ao9n55NUNr-dwA/viewform⁣
URL:https://www.paragoniu.edu.kh/the-event/cs-cup-2025-junior/
LOCATION:Paragon International University\, No. 8\, St. 315\, Boeng Kak 1\, Tuol Kork\, Phnom Penh\, 12151\, Cambodia
CATEGORIES:CS Cup,ParagonIU
ATTACH;FMTTYPE=image/jpeg:https://www.paragoniu.edu.kh/wp-content/uploads/2025/10/photo_2025-10-08_21-51-43-2.jpg
ORGANIZER;CN="Department%20of%20Computer%20Sciences":MAILTO:cs@paragoniu.edu.Kh
END:VEVENT
BEGIN:VEVENT
DTSTART;TZID=Asia/Phnom_Penh:20251112T083000
DTEND;TZID=Asia/Phnom_Penh:20251114T170000
DTSTAMP:20260421T090027
CREATED:20251111T080443Z
LAST-MODIFIED:20251130T161041Z
UID:160206-1762936200-1763139600@www.paragoniu.edu.kh
SUMMARY:Orientation Days
DESCRIPTION:Congratulations to all students on becoming a part of the Paragon International University! We are pleased to invite you to our Orientation Days\, a special program designed to help you transition and adapt smoothly to university studies.???? \nDuring the orientation\, you will: \n– Meet faculty members\, senior students\, and university staff. \n– Learn about campus facilities\, services\, and various resources. \n– Participate in activities that prepare you for the start of your academic journey and life on campus. \n????Please see attached the detailed program agenda below. \nOr via this link: https://drive.google.com/file/d/1Vwe8BYoxKXMdcXmWVub6BSFCUk250Hfz/view?usp=sharing \nWe strongly encourage all students to participate to gain new experiences and prepare for this exciting new chapter in the new academic year.
URL:https://www.paragoniu.edu.kh/the-event/orientation-days/
LOCATION:Paragon International University\, No. 8\, St. 315\, Boeng Kak 1\, Tuol Kork\, Phnom Penh\, 12151\, Cambodia
CATEGORIES:Orientation Days,ParagonIU
ATTACH;FMTTYPE=image/png:https://www.paragoniu.edu.kh/wp-content/uploads/2025/11/Main-4.png
ORGANIZER;CN="Paragon%20International%20University":MAILTO:info@paragoniu.edu.kh
END:VEVENT
BEGIN:VEVENT
DTSTART;TZID=Asia/Phnom_Penh:20251113T093000
DTEND;TZID=Asia/Phnom_Penh:20251113T100000
DTSTAMP:20260421T090027
CREATED:20251111T081954Z
LAST-MODIFIED:20251130T161037Z
UID:160216-1763026200-1763028000@www.paragoniu.edu.kh
SUMMARY:Grand Opening Ceremony (Faculty of EAS Campus)
DESCRIPTION:
URL:https://www.paragoniu.edu.kh/the-event/grand-opening-ceremony-faculty-of-eas-campus/
LOCATION:Faculy of EAS Campus\, Phnom Penh\, 12151\, Cambodia
CATEGORIES:Grand Opening Ceremony,ParagonIU
ATTACH;FMTTYPE=image/jpeg:https://www.paragoniu.edu.kh/wp-content/uploads/2025/11/photo_2025-11-11_13-28-44.jpg
ORGANIZER;CN="Paragon%20International%20University":MAILTO:info@paragoniu.edu.kh
END:VEVENT
BEGIN:VEVENT
DTSTART;TZID=Asia/Phnom_Penh:20251126T100000
DTEND;TZID=Asia/Phnom_Penh:20251126T120000
DTSTAMP:20260421T090027
CREATED:20251118T094205Z
LAST-MODIFIED:20251130T160844Z
UID:160321-1764151200-1764158400@www.paragoniu.edu.kh
SUMMARY:Applied Data Analysis\, Prediction\, and Forecasting Techniques.
DESCRIPTION:  \nThe seminar will be conducted by Prof. Dr. Ruslan Isaev\, Associate Dean of the Faculty of ICT\, specializing in engineering and computer science education\, curriculum development\, and digital transformation in learning environments. \nOpen for ParagonU students\, faculty and staff members. \nRoom: 313\, Main Campus \nRegister here: https://forms.gle/jWANZAy9hs19jUoVA
URL:https://www.paragoniu.edu.kh/the-event/applied-data-analysis-prediction-and-forecasting-techniques/
LOCATION:Paragon International University\, No. 8\, St. 315\, Boeng Kak 1\, Tuol Kork\, Phnom Penh\, 12151\, Cambodia
CATEGORIES:ParagonIU,Research Seminar
ATTACH;FMTTYPE=image/jpeg:https://www.paragoniu.edu.kh/wp-content/uploads/2025/11/ProfDrRuslan.jpg
ORGANIZER;CN="Office%20of%20Research":MAILTO:research@paragoniu.edu.kh
END:VEVENT
BEGIN:VEVENT
DTSTART;TZID=Asia/Phnom_Penh:20251224T110000
DTEND;TZID=Asia/Phnom_Penh:20251224T120000
DTSTAMP:20260421T090027
CREATED:20251223T032053Z
LAST-MODIFIED:20251223T032053Z
UID:162026-1766574000-1766577600@www.paragoniu.edu.kh
SUMMARY:Buckling-Restrained Knee-Braced Frames for Seismic Application; Design\, Performance\, and Perspectives Towards Sustainable Development.
DESCRIPTION:The seminar will be conducted by Dr. Piseth Doung\, PhD\, Head of the Materials Science and Structure Research Unit and Senior Lecturer in the Faculty of Civil Engineering at the Institute of Technology of Cambodia. His expertise includes steel design\, earthquake-resistant structures\, and structural engineering. He is KOLAB Award 2025 holder\, organized by Paragon IU (https://sites.google.com/paragoniu.edu.kh/kolab/home) \nEvent Details: \n– Venue: Paragon International University\, Main Campus \n– Room: 313 (3rd Floor) \n– Date: Wednesday\, 24 December\, 2025 \n– Time: 11:00 AM \nRegister here: https://forms.gle/KE34RLtQwW5SioS89
URL:https://www.paragoniu.edu.kh/the-event/buckling-restrained-knee-braced-frames-for-seismic-application-design-performance-and-perspectives-towards-sustainable-development/
LOCATION:Paragon International University\, No. 8\, St. 315\, Boeng Kak 1\, Tuol Kork\, Phnom Penh\, 12151\, Cambodia
CATEGORIES:ParagonIU,Research Seminar
ATTACH;FMTTYPE=image/jpeg:https://www.paragoniu.edu.kh/wp-content/uploads/2025/12/seminarDrPiseth.jpg
ORGANIZER;CN="Office%20of%20Research":MAILTO:research@paragoniu.edu.kh
END:VEVENT
END:VCALENDAR