BEGIN:VCALENDAR
VERSION:2.0
PRODID:-//Paragon International University - ECPv5.16.4.1//NONSGML v1.0//EN
CALSCALE:GREGORIAN
METHOD:PUBLISH
X-ORIGINAL-URL:https://www.paragoniu.edu.kh
X-WR-CALDESC:Events for Paragon International University
REFRESH-INTERVAL;VALUE=DURATION:PT1H
X-Robots-Tag:noindex
X-PUBLISHED-TTL:PT1H
BEGIN:VTIMEZONE
TZID:Asia/Phnom_Penh
BEGIN:STANDARD
TZOFFSETFROM:+0700
TZOFFSETTO:+0700
TZNAME:+07
DTSTART:20220101T000000
END:STANDARD
END:VTIMEZONE
BEGIN:VEVENT
DTSTART;TZID=Asia/Phnom_Penh:20220115T090000
DTEND;TZID=Asia/Phnom_Penh:20220115T160000
DTSTAMP:20260425T222113
CREATED:20220113T032949Z
LAST-MODIFIED:20251130T162600Z
UID:20134-1642237200-1642262400@www.paragoniu.edu.kh
SUMMARY:Open House 2022
DESCRIPTION:Open House is an annual event organized by the Office of Public Relations at ParagonU with the aim to connect potential students\, parents\, and the public with our current students\, faculty members\, and staff. \nParticipants will get the chance to: \n\nmeet and consult with heads of department and professors\nlearn about your faculty and our study program\nlearn about the admission requirements\nlearn about our exchange and international programs\nchat with our Student Ambassador and seniors who are current students\nlearn about student services and extra-curricular offers at Paragon.U\n\nDate: 15 January 2022\nTime: 9AM – 4PM\nVenue: Paragon International University\nOrganizer: Paragon.U
URL:https://www.paragoniu.edu.kh/the-event/open-house-2022/
LOCATION:Paragon International University\, No. 8\, St. 315\, Boeng Kak 1\, Tuol Kork\, Phnom Penh\, 12151\, Cambodia
CATEGORIES:Open House,ParagonIU
ATTACH;FMTTYPE=image/jpeg:https://www.paragoniu.edu.kh/wp-content/uploads/2022/01/rsz_open_house_22-01.jpg
ORGANIZER;CN="Paragon%20International%20University":MAILTO:info@paragoniu.edu.kh
END:VEVENT
END:VCALENDAR