BEGIN:VCALENDAR
VERSION:2.0
PRODID:-//Paragon International University - ECPv5.16.4.1//NONSGML v1.0//EN
CALSCALE:GREGORIAN
METHOD:PUBLISH
X-ORIGINAL-URL:https://www.paragoniu.edu.kh
X-WR-CALDESC:Events for Paragon International University
REFRESH-INTERVAL;VALUE=DURATION:PT1H
X-Robots-Tag:noindex
X-PUBLISHED-TTL:PT1H
BEGIN:VTIMEZONE
TZID:Asia/Phnom_Penh
BEGIN:STANDARD
TZOFFSETFROM:+0700
TZOFFSETTO:+0700
TZNAME:+07
DTSTART:20240101T000000
END:STANDARD
END:VTIMEZONE
BEGIN:VEVENT
DTSTART;TZID=Asia/Phnom_Penh:20240626T090000
DTEND;TZID=Asia/Phnom_Penh:20240626T160000
DTSTAMP:20260422T062508
CREATED:20240625T140727Z
LAST-MODIFIED:20251130T162413Z
UID:142885-1719392400-1719417600@www.paragoniu.edu.kh
SUMMARY:The Department of Architecture: Capstone Project Student Presentations
DESCRIPTION:The Department of Architecture is hosting students’ capstone project presentations this week! \nJoin us for an exclusive showcase of groundbreaking Capstone Projects by our graduating Architecture students! Secure your spot by registering with the barcode – limited seats are available. Don’t miss this opportunity to witness innovation in design! \nDate: 26th June 2024\nTime: 9:00 AM – 4:00 PM\nVenue: Paragon International University Conference Hall\nRegistration Link: https://bit.ly/3XBnBLO
URL:https://www.paragoniu.edu.kh/the-event/the-department-of-architecture-capstone-project-student-presentations/
LOCATION:Paragon International University\, No. 8\, St. 315\, Boeng Kak 1\, Tuol Kork\, Phnom Penh\, 12151\, Cambodia
CATEGORIES:Career,ParagonIU,Workshop
ATTACH;FMTTYPE=image/jpeg:https://www.paragoniu.edu.kh/wp-content/uploads/2024/06/Main-Artwork-scaled.jpg
ORGANIZER;CN="Paragon%20International%20University":MAILTO:info@paragoniu.edu.kh
END:VEVENT
BEGIN:VEVENT
DTSTART;TZID=Asia/Phnom_Penh:20240625T080000
DTEND;TZID=Asia/Phnom_Penh:20240625T170000
DTSTAMP:20260422T062508
CREATED:20240624T103040Z
LAST-MODIFIED:20251130T162509Z
UID:142863-1719302400-1719334800@www.paragoniu.edu.kh
SUMMARY:ICT Faculty Expo 2024: The Paragon Of Tech Frontiers
DESCRIPTION:Join Us at Expo 2024! \nTheme: Expanding the Digital Horizon through Applied Research\, Integrating Life and Tech through Smart Solutions and Innovations. \nWhy Attend? \n\nSee amazing projects by senior students\nConnect with students\, faculty\, and industry professionals\nCelebrate student achievements in tech and innovation\nExplore networking and career opportunities\nDon’t miss this chance to witness the future of digital innovation!\n\nJoin Us at Expo 2024! \nEvent Details: \nDate: 25th June 2024\nTime: 8:00 AM – 5:00 PM\nVenue: ParagonIU Lobby\, Conference Hall \nRegister here: https://forms.gle/DXQHZMnB5HuWyvkPA
URL:https://www.paragoniu.edu.kh/the-event/ict-faculty-expo-2024-the-paragon-of-tech-frontiers/
LOCATION:Paragon International University\, No. 8\, St. 315\, Boeng Kak 1\, Tuol Kork\, Phnom Penh\, 12151\, Cambodia
CATEGORIES:Career,ParagonIU,Workshop
ATTACH;FMTTYPE=image/png:https://www.paragoniu.edu.kh/wp-content/uploads/2024/06/Beige-White-Simple-Business-Seminar-Event-Instagram-Post-3.png
ORGANIZER;CN="Paragon%20International%20University":MAILTO:info@paragoniu.edu.kh
END:VEVENT
BEGIN:VEVENT
DTSTART;TZID=Asia/Phnom_Penh:20240604T150000
DTEND;TZID=Asia/Phnom_Penh:20240604T170000
DTSTAMP:20260422T062508
CREATED:20240528T062701Z
LAST-MODIFIED:20251130T162502Z
UID:142311-1717513200-1717520400@www.paragoniu.edu.kh
SUMMARY:Unlocking the Secrets of Customs Clearance: Best Practices and Insights from Air Transportation Operations
DESCRIPTION:The Department of International Trade and Logistics at Paragon International University is hosting a seminar titled “Unlocking the Secrets of Customs Clearance: Best Practices and Insights from Air Transportation Operations.” \nThe seminar will be led by Ms. Tolada Sarakvich\, an import clearance expert with extensive experience in: \n\nHarmonized System (HS) code classification: Ms. Sarakvich will shed light on calculating tariffs based on the HS code system for various commodities.\nCustoms clearance document accuracy and order: Ensuring your documents are accurate and organized is crucial for a smooth customs clearance process.\nAddressing customs inquiries: She will cover how to effectively address customs inquiries from both personal and corporate clients.\nImport regulation compliance: Understanding and complying with import regulations is essential.\n\nThis seminar is a valuable opportunity to gain a deeper understanding of navigating air freight customs clearance. \nDate: Tuesday\, 4 June 2024\nTime: 3:00 PM – 5:00 PM\nVenue: Paragon International University\nOrganizer: The Department of International Trade and Logistics\nRegistration Link: https://forms.gle/P58yo1W14fFsesL77
URL:https://www.paragoniu.edu.kh/the-event/unlocking-the-secrets-of-customs-clearance-best-practices-and-insights-from-air-transportation-operations/
LOCATION:Paragon International University\, No. 8\, St. 315\, Boeng Kak 1\, Tuol Kork\, Phnom Penh\, 12151\, Cambodia
CATEGORIES:Career,ParagonIU,Workshop
ATTACH;FMTTYPE=image/jpeg:https://www.paragoniu.edu.kh/wp-content/uploads/2024/05/IMG_20240522_081430_308-Large.jpg
ORGANIZER;CN="Paragon%20International%20University":MAILTO:info@paragoniu.edu.kh
END:VEVENT
BEGIN:VEVENT
DTSTART;TZID=Asia/Phnom_Penh:20240604T080000
DTEND;TZID=Asia/Phnom_Penh:20240614T160000
DTSTAMP:20260422T062508
CREATED:20240603T160341Z
LAST-MODIFIED:20251130T162456Z
UID:142448-1717488000-1718380800@www.paragoniu.edu.kh
SUMMARY:Paragon.U's Campus Tour 2024
DESCRIPTION:Paragon International University is pleased to announce the return of its Campus Tour for 2024. This is a fantastic opportunity for students from 9 high schools in Phnom Penh to learn more about our academic programs and campus facilities. \nDate: June 4 – 14\, 2024\nTime: 8:00 AM – 4:00 PM\nVenue: Paragon International University\nOrganizer: Paragon.U
URL:https://www.paragoniu.edu.kh/the-event/paragon-us-campus-tour-2024/
LOCATION:Paragon International University\, No. 8\, St. 315\, Boeng Kak 1\, Tuol Kork\, Phnom Penh\, 12151\, Cambodia
CATEGORIES:Career,ParagonIU,Workshop
ATTACH;FMTTYPE=image/png:https://www.paragoniu.edu.kh/wp-content/uploads/2024/06/Campus-Tour-ParagonIU.png
ORGANIZER;CN="Paragon%20International%20University":MAILTO:info@paragoniu.edu.kh
END:VEVENT
BEGIN:VEVENT
DTSTART;TZID=Asia/Phnom_Penh:20240531T090000
DTEND;TZID=Asia/Phnom_Penh:20240531T100000
DTSTAMP:20260422T062508
CREATED:20240530T164618Z
LAST-MODIFIED:20251130T162451Z
UID:142379-1717146000-1717149600@www.paragoniu.edu.kh
SUMMARY:Workshop: Financial Literacy and Career Readiness
DESCRIPTION:Workshop: Financial Literacy and Career Readiness \nThe Department of Banking and Finance at Paragon International University is co-hosting an upcoming workshop with the Institute of Banking and Finance on “Financial Literacy and Career Readiness.” \nThis workshop is an excellent opportunity for students to gain valuable insights into sustainable financial literacy and career readiness in the banks and financial institutions (BFIs) sector. \nDate: Friday\, 31 May 2024\nTime: 9:00 AM – 11:00 AM\nVenue: Paragon International University\, Conference hall\nOrganizer: The Department of Banking and Finance\nRegistration link: https://forms.gle/ZWpHKCBBPhEib2ws9  
URL:https://www.paragoniu.edu.kh/the-event/workshop-financial-literacy-and-career-readiness/
LOCATION:Paragon International University\, No. 8\, St. 315\, Boeng Kak 1\, Tuol Kork\, Phnom Penh\, 12151\, Cambodia
CATEGORIES:Career,ParagonIU,Workshop
ATTACH;FMTTYPE=image/jpeg:https://www.paragoniu.edu.kh/wp-content/uploads/2024/05/Speaker-Tour-Series-4-at-paragon-Borasy-Siek-Large.jpg
ORGANIZER;CN="Paragon%20International%20University":MAILTO:info@paragoniu.edu.kh
END:VEVENT
BEGIN:VEVENT
DTSTART;TZID=Asia/Phnom_Penh:20240517T090000
DTEND;TZID=Asia/Phnom_Penh:20240517T170000
DTSTAMP:20260422T062508
CREATED:20240513T063547Z
LAST-MODIFIED:20251130T162447Z
UID:142010-1715936400-1715965200@www.paragoniu.edu.kh
SUMMARY:Paragon.U’s Career Fair 2024
DESCRIPTION:Event details:\nDate: 17th May 2024\nTime: 9:00 AM to 5:00 PM\nVenue: Paragon International University (Lobby & 4th Floor)\nRegistration Link: https://paragonucareerfair2024.splashthat.com/
URL:https://www.paragoniu.edu.kh/the-event/paragon-us-career-fair-2024/
LOCATION:Paragon International University\, No. 8\, St. 315\, Boeng Kak 1\, Tuol Kork\, Phnom Penh\, 12151\, Cambodia
CATEGORIES:Career,ParagonIU,Workshop
ATTACH;FMTTYPE=image/png:https://www.paragoniu.edu.kh/wp-content/uploads/2024/05/CAREER-FAIR-Poster-Large.png
ORGANIZER;CN="Paragon%20International%20University":MAILTO:info@paragoniu.edu.kh
END:VEVENT
END:VCALENDAR