BEGIN:VCALENDAR
VERSION:2.0
PRODID:-//Paragon International University - ECPv5.16.4.1//NONSGML v1.0//EN
CALSCALE:GREGORIAN
METHOD:PUBLISH
X-WR-CALNAME:Paragon International University
X-ORIGINAL-URL:https://www.paragoniu.edu.kh
X-WR-CALDESC:Events for Paragon International University
REFRESH-INTERVAL;VALUE=DURATION:PT1H
X-Robots-Tag:noindex
X-PUBLISHED-TTL:PT1H
BEGIN:VTIMEZONE
TZID:Asia/Phnom_Penh
BEGIN:STANDARD
TZOFFSETFROM:+0700
TZOFFSETTO:+0700
TZNAME:+07
DTSTART:20250101T000000
END:STANDARD
END:VTIMEZONE
BEGIN:VEVENT
DTSTART;TZID=Asia/Phnom_Penh:20250520T140000
DTEND;TZID=Asia/Phnom_Penh:20250520T170000
DTSTAMP:20260419T201408
CREATED:20250517T034805Z
LAST-MODIFIED:20251130T162219Z
UID:151732-1747749600-1747760400@www.paragoniu.edu.kh
SUMMARY:🚛 Join Us for an Eye-Opening Logistics Seminar! 🌏
DESCRIPTION:Want to master custom declaration operations and improve cross-border import efficiency? Don’t miss this chance to learn from the best in the field!\n\n\n Paragon International University – Conference Hall\n Tuesday\, 20 May 2025\n 2:00 PM – 5:00 PM\n Guest Speaker: Mr. Tong Sokheng\, Commercial Manager at FWF Full Well & Nisshin Logistics Co.\, Ltd.\n Moderator: Soriya Hoeur\, Lecturer of International Trade and Logistics of Paragon International University\n\n\n Open to the public – students\, professionals\, and curious minds all welcome!\n Scan the QR code to register now and secure your seat or visit the link: https://forms.gle/X1TcQvR1wVFNcMsS7\n\n\nHope to see you on the day! Let’s learn and discuss!
URL:https://www.paragoniu.edu.kh/the-event/%f0%9f%9a%9b-join-us-for-an-eye-opening-logistics-seminar-%f0%9f%8c%8f/
LOCATION:Paragon International University\, No. 8\, St. 315\, Boeng Kak 1\, Tuol Kork\, Phnom Penh\, 12151\, Cambodia
CATEGORIES:ParagonIU,Workshop
ATTACH;FMTTYPE=image/jpeg:https://www.paragoniu.edu.kh/wp-content/uploads/2025/05/495514495_1363024961454405_7609982021851316820_n.jpg
ORGANIZER;CN="Paragon%20International%20University":MAILTO:info@paragoniu.edu.kh
END:VEVENT
END:VCALENDAR