BEGIN:VCALENDAR
VERSION:2.0
PRODID:-//Paragon International University - ECPv5.16.4.1//NONSGML v1.0//EN
CALSCALE:GREGORIAN
METHOD:PUBLISH
X-ORIGINAL-URL:https://www.paragoniu.edu.kh
X-WR-CALDESC:Events for Paragon International University
REFRESH-INTERVAL;VALUE=DURATION:PT1H
X-Robots-Tag:noindex
X-PUBLISHED-TTL:PT1H
BEGIN:VTIMEZONE
TZID:Asia/Phnom_Penh
BEGIN:STANDARD
TZOFFSETFROM:+0700
TZOFFSETTO:+0700
TZNAME:+07
DTSTART:20250101T000000
END:STANDARD
END:VTIMEZONE
BEGIN:VEVENT
DTSTART;TZID=Asia/Phnom_Penh:20250327T130000
DTEND;TZID=Asia/Phnom_Penh:20250327T150000
DTSTAMP:20260420T071207
CREATED:20250325T085849Z
LAST-MODIFIED:20251130T162239Z
UID:150790-1743080400-1743087600@www.paragoniu.edu.kh
SUMMARY:Seminar: The Economic Development of Cambodia and its Path to High Income Status
DESCRIPTION:Economics Seminar – The Economic Development of Cambodia and its Path to High Income Status\n\nJoin us for a comprehensive overview of the economic development of Cambodia with Mr. Faya Hayati\, Senior Economists\, Economic Policy\, World Bank Group (Cambodia Country Office).\n\n\n\nFaya Hayati has worked for the World Bank for more than a decade and is currently the Senior Economist for Cambodia where he leads the engagement on Economic Policies. Previously\, he was the country economist for Myanmar\, Iran and Syria and covered issues relating to macro forecasting\, debt dynamics and public expenditure analysis. Prior to joining the Bank\, he lived and worked in Australia\, where he worked in the Prime Minister’s Office and the Department of Treasury as a macroeconomic forecaster. He holds a PhD in Public Policy Economics from George Washington University\, Masters in Economic development and a Master’s in diplomacy from the Australian National University (ANU) and a Bachelor of Economics and Bachelor of Law from the ANU. \n\n Date: Thursday\, 27 March 2025 \nTime: 1:00 PM – 3:00 PM \nVenue: Paragon International University (Room 220) \n\n\n\n Registration form: https://forms.gle/nYMfSoBA8Uk2mkcA8
URL:https://www.paragoniu.edu.kh/the-event/seminar-the-economic-development-of-cambodia-and-its-path-to-high-income-status/
LOCATION:Paragon International University\, No. 8\, St. 315\, Boeng Kak 1\, Tuol Kork\, Phnom Penh\, 12151\, Cambodia
CATEGORIES:ParagonIU,Workshop
ATTACH;FMTTYPE=image/png:https://www.paragoniu.edu.kh/wp-content/uploads/2025/03/Economics-Seminar_Mr.-Faya-Hayati.png
ORGANIZER;CN="Paragon%20International%20University":MAILTO:info@paragoniu.edu.kh
END:VEVENT
END:VCALENDAR