BEGIN:VCALENDAR
VERSION:2.0
PRODID:-//Paragon International University - ECPv5.16.4.1//NONSGML v1.0//EN
CALSCALE:GREGORIAN
METHOD:PUBLISH
X-ORIGINAL-URL:https://www.paragoniu.edu.kh
X-WR-CALDESC:Events for Paragon International University
REFRESH-INTERVAL;VALUE=DURATION:PT1H
X-Robots-Tag:noindex
X-PUBLISHED-TTL:PT1H
BEGIN:VTIMEZONE
TZID:Asia/Phnom_Penh
BEGIN:STANDARD
TZOFFSETFROM:+0700
TZOFFSETTO:+0700
TZNAME:+07
DTSTART:20240101T000000
END:STANDARD
END:VTIMEZONE
BEGIN:VEVENT
DTSTART;TZID=Asia/Phnom_Penh:20241129T130000
DTEND;TZID=Asia/Phnom_Penh:20241129T170000
DTSTAMP:20260420T214714
CREATED:20241123T100647Z
LAST-MODIFIED:20251130T162307Z
UID:147248-1732885200-1732899600@www.paragoniu.edu.kh
SUMMARY:Paragon.U Information Session for Undergraduate Programs
DESCRIPTION:[ENGLISH BELOW] កម្មវិធីផ្តល់ព័ត៍មានអំពីជំនាញសិក្សាសម្រាប់កម្រិតបរិញ្ញាបត្រ!!!!សាកលវិទ្យាល័យអន្តរជាតិ ផារ៉ាហ្គន មានសេចក្តីសោមនស្សរីករាយក្នុងការអញ្ជើញសិស្សានុសិស្ស និងអាណាព្យាបាលទាំងអស់មកចូលរួមក្នុងកម្មវិធីផ្តល់ព័ត៍មានអំពីជំនាញសិក្សា សម្រាប់កម្រិតបរិញ្ញាបត្រ។ ស្វែងយល់ពីជំនាញសិក្សា អាជីពសម្រាប់អនាគត និងជួបពិភាក្សាដោយផ្ទាល់ជាមួយសាស្ត្រាចារ្យ និងបុគ្គលិកអប់រំ។ អនាគតរបស់អ្នកចាប់ផ្តើមនៅទីនេះ!ទីតាំង: https://goo.gl/maps/5fxjHhErADXZpoPr7_________________________________ទំនាក់ទំនងយើងខ្ញុំតាមរយៈទូរស័ព្ទ៖ ០១៧ ៩៩៦ ១១១ / ០១៥ ៩៩៦ ១១១Telegram៖ https://t.me/Paragon_International_Universityអ៊ីមែល៖ info@paragoniu.edu.khគេហទំព័រ៖ www.www.paragoniu.edu.kh Paragon.U Information Session for Undergraduate Programs!!!!Paragon International University is delighted to invite everyone to join us for an informative session on our undergraduate programs! Discover academic pathways\, and career prospects\, and engage directly with the Deans and Department Heads. Your future starts here! https://goo.gl/maps/5fxjHhErADXZpoPr7   \n__Contact UsTelephone: 017 996 111 / 015 996 111Telegram: https://t.me/Paragon_International_UniversityEmail: info@paragoniu.edu.kh
URL:https://www.paragoniu.edu.kh/the-event/paragon-u-information-session-for-undergraduate-programs/
LOCATION:Paragon International University\, No. 8\, St. 315\, Boeng Kak 1\, Tuol Kork\, Phnom Penh\, 12151\, Cambodia
CATEGORIES:Open House,ParagonIU
ATTACH;FMTTYPE=image/png:https://www.paragoniu.edu.kh/wp-content/uploads/2024/11/Artboard-1-copy-3@4x.png
ORGANIZER;CN="Paragon%20International%20University":MAILTO:info@paragoniu.edu.kh
END:VEVENT
END:VCALENDAR