BEGIN:VCALENDAR
VERSION:2.0
PRODID:-//Paragon International University - ECPv5.16.4.1//NONSGML v1.0//EN
CALSCALE:GREGORIAN
METHOD:PUBLISH
X-WR-CALNAME:Paragon International University
X-ORIGINAL-URL:https://www.paragoniu.edu.kh
X-WR-CALDESC:Events for Paragon International University
REFRESH-INTERVAL;VALUE=DURATION:PT1H
X-Robots-Tag:noindex
X-PUBLISHED-TTL:PT1H
BEGIN:VTIMEZONE
TZID:Asia/Phnom_Penh
BEGIN:STANDARD
TZOFFSETFROM:+0700
TZOFFSETTO:+0700
TZNAME:+07
DTSTART:20240101T000000
END:STANDARD
END:VTIMEZONE
BEGIN:VEVENT
DTSTART;TZID=Asia/Phnom_Penh:20241102T130000
DTEND;TZID=Asia/Phnom_Penh:20241102T170000
DTSTAMP:20260421T030555
CREATED:20241024T074758Z
LAST-MODIFIED:20251130T162333Z
UID:146057-1730552400-1730566800@www.paragoniu.edu.kh
SUMMARY:Open House 2024
DESCRIPTION:What is the Open House?\nOpen House is an annual event organized by Paragon International University with the aim to connect students\, parents\, and the public with our Faculties\, Staff\, and current students. \nThis year\, our Open House will be conducted on the 2 November 2024. \nYou will get the opportunities to: \n\nlearn more about the Grade-Based Scholarship\nlearn about your faculty and our study program\nlearn about the admission requirements\nchat with seniors who are current students\nlearn about student services and extracurricular offers at Paragon.U\n\nDate: 2 November 2024\nVenue: Paragon International University\nOrganizer: Paragon.U \nParagon.U is also offering prizes to participants as below. Join us and get a chance to win the prize!
URL:https://www.paragoniu.edu.kh/the-event/open-house-2024/
LOCATION:Paragon International University\, No. 8\, St. 315\, Boeng Kak 1\, Tuol Kork\, Phnom Penh\, 12151\, Cambodia
CATEGORIES:Open House,ParagonIU
ATTACH;FMTTYPE=image/png:https://www.paragoniu.edu.kh/wp-content/uploads/2024/10/IG@4x.png
ORGANIZER;CN="Paragon%20International%20University":MAILTO:info@paragoniu.edu.kh
END:VEVENT
END:VCALENDAR