BEGIN:VCALENDAR
VERSION:2.0
PRODID:-//Paragon International University - ECPv5.16.4.1//NONSGML v1.0//EN
CALSCALE:GREGORIAN
METHOD:PUBLISH
X-ORIGINAL-URL:https://www.paragoniu.edu.kh
X-WR-CALDESC:Events for Paragon International University
REFRESH-INTERVAL;VALUE=DURATION:PT1H
X-Robots-Tag:noindex
X-PUBLISHED-TTL:PT1H
BEGIN:VTIMEZONE
TZID:Asia/Phnom_Penh
BEGIN:STANDARD
TZOFFSETFROM:+0700
TZOFFSETTO:+0700
TZNAME:+07
DTSTART:20220101T000000
END:STANDARD
END:VTIMEZONE
BEGIN:VEVENT
DTSTART;VALUE=DATE:20220505
DTEND;VALUE=DATE:20220521
DTSTAMP:20260426T074830
CREATED:20220506T030643Z
LAST-MODIFIED:20221024T042322Z
UID:20701-1651708800-1653091199@www.paragoniu.edu.kh
SUMMARY:Cambodia CS Cup 2022
DESCRIPTION:What is CAMBODIA CS CUP?\nCambodia CS Cup is an annual competitive programming competition organized by several Cambodian universities (Royal University of Phnom Penh\, and Paragon International University) and partners (KhmerCoders Community\, Passerelles numériques Cambodia)\, and sponsored by Mango Byte\, KhmerCoders Community\, and Wing bank with support from the Ministry of Industry Science Technology and Innovation where university students compete against each other as individuals rather than in teams. \nStudents have to solve algorithmic problems to advance through up to four rounds of programming challenges. \nWhat is Competitive Programming?\nCompetitive programming is a programming sport where participants need to write code to solve specific problems. Competitive programming is useful because it helps exercising our problem-solving skills. It also plays a major role in preparing you for a job interview with major tech companies. \nWho can join?\nIt is free to join and open for everyone. \nPlatform\nHackerRank (www.hackerrank.com) is a place where programmers from all over the world come together to solve problems in a wide range of Computer Science domains such as algorithms\, machine learning\, or artificial intelligence\, as well as to practice different programming paradigms like functional programming. \nRegistration deadline: 20.05.2022 \nRegistration link: https://forms.gle/eVJKChGCrbBKh4Tp6
URL:https://www.paragoniu.edu.kh/the-event/cambodia-cs-cup-2022/
LOCATION:Online
CATEGORIES:CS Cup
ATTACH;FMTTYPE=image/jpeg:https://www.paragoniu.edu.kh/wp-content/uploads/2022/05/CS-Cup-2022-banner-02.jpg
ORGANIZER;CN="Paragon%20International%20University":MAILTO:info@paragoniu.edu.kh
END:VEVENT
END:VCALENDAR